BEGIN:VCALENDAR
VERSION:2.0
PRODID:-//Tukios.com/
BEGIN:VEVENT
UID:f3bc5379-fb85-424c-9f57-4489e8ff0b54@www.georgeecollinsfh.com
DTSTAMP:20260423T012349Z
DTSTART:20260505T150000Z
DTEND:20260505T153000Z
SUMMARY:Interment
DESCRIPTION:
URL:https://www.georgeecollinsfh.com/obituaries/charles-murphy
LOCATION:Fort Jackson National Cemetery 4170 Percival Road  Columbia SC 
	29229
GEO:34.0895923;-80.854615
END:VEVENT
END:VCALENDAR