BEGIN:VCALENDAR
VERSION:2.0
PRODID:-//Tukios.com/
BEGIN:VEVENT
UID:ab1943d0-45d3-4689-bed9-2da1f726b861@www.georgeecollinsfh.com
DTSTAMP:20260423T012436Z
DTSTART:20260501T180000Z
DTEND:20260501T190000Z
SUMMARY:Viewing
DESCRIPTION:
URL:https://www.georgeecollinsfh.com/obituaries/charles-murphy
LOCATION:St. Matthew Baptist Church 749 Longtown Road  Lugoff SC 29078
GEO:34.2756543;-80.706238
END:VEVENT
END:VCALENDAR