BEGIN:VCALENDAR
VERSION:2.0
PRODID:-//Tukios.com/
BEGIN:VEVENT
UID:78c625aa-150d-4c43-88d6-b2ab04ff6f1f@www.georgeecollinsfh.com
DTSTAMP:20260423T012630Z
DTSTART:20260501T190000Z
DTEND:20260501T201500Z
SUMMARY:Funeral Service
DESCRIPTION:
URL:https://www.georgeecollinsfh.com/obituaries/charles-murphy
LOCATION:St. Matthew Baptist Church 749 Longtown Road  Lugoff SC 29078
GEO:34.2756543;-80.706238
END:VEVENT
END:VCALENDAR