BEGIN:VCALENDAR
VERSION:2.0
PRODID:-//Tukios.com/
BEGIN:VEVENT
UID:2e8e8aa0-79ab-4a4b-a972-926d20cf16ae@www.georgeecollinsfh.com
DTSTAMP:20260422T123132Z
DTSTART:20260428T170000Z
DTEND:20260428T180000Z
SUMMARY:Celebration of Life
DESCRIPTION:
URL:https://www.georgeecollinsfh.com/obituaries/audrey-harris
LOCATION:Collins Funeral Home, Inc 714 West Dekalb Street  Camden SC 
	29020
GEO:34.2466551;-80.6107815
END:VEVENT
END:VCALENDAR